BEGIN:VCALENDAR
VERSION:2.0
PRODID:-//Replicate Project EU - ECPv5.3.1//NONSGML v1.0//EN
CALSCALE:GREGORIAN
METHOD:PUBLISH
X-WR-CALNAME:Replicate Project EU
X-ORIGINAL-URL:https://replicate-project.eu
X-WR-CALDESC:Events for Replicate Project EU
BEGIN:VTIMEZONE
TZID:UTC
BEGIN:STANDARD
TZOFFSETFROM:+0000
TZOFFSETTO:+0000
TZNAME:UTC
DTSTART:20200101T000000
END:STANDARD
END:VTIMEZONE
BEGIN:VEVENT
DTSTART;TZID=UTC:20201117T110000
DTEND;TZID=UTC:20211117T121500
DTSTAMP:20260421T081246
CREATED:20200921T095946Z
LAST-MODIFIED:20200921T095946Z
UID:7382-1605610800-1637151300@replicate-project.eu
SUMMARY:Urban sharing platform with Sharing Cities
DESCRIPTION:Join this event to learn more about the work Sharing Cities has done to implement Urban Sharing Platforms. \n\n						Share List
URL:https://replicate-project.eu/event/urban-sharing-platform-with-sharing-cities/
LOCATION:Virtual Event
ATTACH;FMTTYPE=image/jpeg:https://replicate-project.eu/wp-content/uploads/2020/09/https___cdn.evbuc_.com_images_102083376_409293046377_1_original.jpg
END:VEVENT
END:VCALENDAR