BEGIN:VCALENDAR
VERSION:2.0
PRODID:-//Replicate Project EU - ECPv5.3.1//NONSGML v1.0//EN
CALSCALE:GREGORIAN
METHOD:PUBLISH
X-WR-CALNAME:Replicate Project EU
X-ORIGINAL-URL:https://replicate-project.eu
X-WR-CALDESC:Events for Replicate Project EU
BEGIN:VTIMEZONE
TZID:UTC
BEGIN:STANDARD
TZOFFSETFROM:+0000
TZOFFSETTO:+0000
TZNAME:UTC
DTSTART:20200101T000000
END:STANDARD
END:VTIMEZONE
BEGIN:VEVENT
DTSTART;TZID=UTC:20200929T000000
DTEND;TZID=UTC:20201002T000000
DTSTAMP:20260420T143032
CREATED:20200921T085929Z
LAST-MODIFIED:20200921T085929Z
UID:6080-1601337600-1601596800@replicate-project.eu
SUMMARY:Urban Mobility Days
DESCRIPTION:Join the free Urban Mobility Days to see clean and sustainable transport placed in the limelight like in no event before. Including the dedicated Smart City Session “The smart city as a sustainable city” on October 1st\, 11.45-12.45 CEST. \n\n						Share List
URL:https://replicate-project.eu/event/urban-mobility-days/
LOCATION:Virtual Event
ATTACH;FMTTYPE=image/jpeg:https://replicate-project.eu/wp-content/uploads/2019/12/Eltis-banner_v2-03.jpg
END:VEVENT
END:VCALENDAR