BEGIN:VCALENDAR
VERSION:2.0
PRODID:-//Replicate Project EU - ECPv5.3.1//NONSGML v1.0//EN
CALSCALE:GREGORIAN
METHOD:PUBLISH
X-WR-CALNAME:Replicate Project EU
X-ORIGINAL-URL:https://replicate-project.eu
X-WR-CALDESC:Events for Replicate Project EU
BEGIN:VTIMEZONE
TZID:UTC
BEGIN:STANDARD
TZOFFSETFROM:+0000
TZOFFSETTO:+0000
TZNAME:UTC
DTSTART:20200101T000000
END:STANDARD
END:VTIMEZONE
BEGIN:VEVENT
DTSTART;TZID=UTC:20200921T080000
DTEND;TZID=UTC:20200924T170000
DTSTAMP:20260420T145109
CREATED:20200921T083409Z
LAST-MODIFIED:20200921T084539Z
UID:7350-1600675200-1600966800@replicate-project.eu
SUMMARY:Research & Innovation Days
DESCRIPTION:The European Commission’s annual flagship Research and Innovation event\, bringing together policymakers\, researchers\, entrepreneurs and the public to debate and shape the future of research and innovation in Europe and beyond. \n\n						Share List
URL:https://replicate-project.eu/event/research-innovation-days/
LOCATION:Virtual Event
ATTACH;FMTTYPE=image/jpeg:https://replicate-project.eu/wp-content/uploads/2020/09/banner.jpg
END:VEVENT
END:VCALENDAR