BEGIN:VCALENDAR
VERSION:2.0
PRODID:-//Replicate Project EU - ECPv5.3.1//NONSGML v1.0//EN
CALSCALE:GREGORIAN
METHOD:PUBLISH
X-WR-CALNAME:Replicate Project EU
X-ORIGINAL-URL:https://replicate-project.eu
X-WR-CALDESC:Events for Replicate Project EU
BEGIN:VTIMEZONE
TZID:UTC
BEGIN:STANDARD
TZOFFSETFROM:+0000
TZOFFSETTO:+0000
TZNAME:UTC
DTSTART:20200101T000000
END:STANDARD
END:VTIMEZONE
BEGIN:VEVENT
DTSTART;TZID=UTC:20200211T080000
DTEND;TZID=UTC:20200212T170000
DTSTAMP:20260419T214110
CREATED:20191210T155214Z
LAST-MODIFIED:20191210T155214Z
UID:5902-1581408000-1581526800@replicate-project.eu
SUMMARY:MOVE 2020
DESCRIPTION:MOVE brings together disruptors\, their technology and their attitude with stakeholders across all modes and disciplines: to dialogue\, to create insight and to promote collaboration. We are more expansive and multi-disciplined than any other event on the planet. \n\n						Share List
URL:https://replicate-project.eu/event/move-2020/
LOCATION:Excel London\, London\, United Kingdom
ATTACH;FMTTYPE=image/png:https://replicate-project.eu/wp-content/uploads/2019/12/move-logo-rev.png
END:VEVENT
END:VCALENDAR