BEGIN:VCALENDAR
VERSION:2.0
PRODID:-//Replicate Project EU - ECPv5.3.1//NONSGML v1.0//EN
CALSCALE:GREGORIAN
METHOD:PUBLISH
X-WR-CALNAME:Replicate Project EU
X-ORIGINAL-URL:https://replicate-project.eu
X-WR-CALDESC:Events for Replicate Project EU
BEGIN:VTIMEZONE
TZID:UTC
BEGIN:STANDARD
TZOFFSETFROM:+0000
TZOFFSETTO:+0000
TZNAME:UTC
DTSTART:20200101T000000
END:STANDARD
END:VTIMEZONE
BEGIN:VEVENT
DTSTART;TZID=UTC:20201112T080000
DTEND;TZID=UTC:20201112T170000
DTSTAMP:20260420T143238
CREATED:20200921T095216Z
LAST-MODIFIED:20200921T095216Z
UID:7376-1605168000-1605200400@replicate-project.eu
SUMMARY:JPI Urban Europe Policy Conference 2020 - Driving Urban Transitions
DESCRIPTION:Since 2019\, participants from over 40 different countries and six continents have gathered in JPI Urban Europe knowledge hub events. It is now high time to register to JPI Urban Europe’s fifth Policy Conference to take place online on the 12th of November 2020. \n\n						Share List
URL:https://replicate-project.eu/event/jpi-urban-europe-policy-conference-2020-driving-urban-transitions/
LOCATION:Brussels\, Brussels
ATTACH;FMTTYPE=image/png:https://replicate-project.eu/wp-content/uploads/2020/09/descarga.png
END:VEVENT
END:VCALENDAR