BEGIN:VCALENDAR
VERSION:2.0
PRODID:-//Replicate Project EU - ECPv5.3.1//NONSGML v1.0//EN
CALSCALE:GREGORIAN
METHOD:PUBLISH
X-WR-CALNAME:Replicate Project EU
X-ORIGINAL-URL:https://replicate-project.eu
X-WR-CALDESC:Events for Replicate Project EU
BEGIN:VTIMEZONE
TZID:UTC
BEGIN:STANDARD
TZOFFSETFROM:+0000
TZOFFSETTO:+0000
TZNAME:UTC
DTSTART:20210101T000000
END:STANDARD
END:VTIMEZONE
BEGIN:VEVENT
DTSTART;TZID=UTC:20210917T080000
DTEND;TZID=UTC:20210919T170000
DTSTAMP:20260420T162312
CREATED:20210201T092943Z
LAST-MODIFIED:20210201T093133Z
UID:7572-1631865600-1632070800@replicate-project.eu
SUMMARY:International Conference on Transport and Smart Cities
DESCRIPTION:The first International Conference on Transport and Smart Cities gathers researchers from around the world to share the latest advances in the field of Smart Cities\, with a focus on Transportation. \n\n						Share List
URL:https://replicate-project.eu/event/international-conference-on-transport-and-smart-cities/
LOCATION:Frankfurt\, Germany
ATTACH;FMTTYPE=image/jpeg:https://replicate-project.eu/wp-content/uploads/2021/02/InternationalConferenceTransportSmartCities.jpg
END:VEVENT
END:VCALENDAR