BEGIN:VCALENDAR
VERSION:2.0
PRODID:-//Replicate Project EU - ECPv5.3.1//NONSGML v1.0//EN
CALSCALE:GREGORIAN
METHOD:PUBLISH
X-WR-CALNAME:Replicate Project EU
X-ORIGINAL-URL:https://replicate-project.eu
X-WR-CALDESC:Events for Replicate Project EU
BEGIN:VTIMEZONE
TZID:UTC
BEGIN:STANDARD
TZOFFSETFROM:+0000
TZOFFSETTO:+0000
TZNAME:UTC
DTSTART:20200101T000000
END:STANDARD
END:VTIMEZONE
BEGIN:VEVENT
DTSTART;TZID=UTC:20201008T080000
DTEND;TZID=UTC:20201008T170000
DTSTAMP:20260420T144342
CREATED:20191211T091911Z
LAST-MODIFIED:20200317T082528Z
UID:5928-1602144000-1602176400@replicate-project.eu
SUMMARY:Future Urban Mobility 2020
DESCRIPTION:Mobility and urbanization go hand in hand. What challenges do we face? \n\n						Share List
URL:https://replicate-project.eu/event/future-urban-mobility-2020/
LOCATION:The Hague\, The Hague\, Netherlands
ATTACH;FMTTYPE=image/png:https://replicate-project.eu/wp-content/uploads/2019/12/Future_Urban_Mobility_2020.png
END:VEVENT
END:VCALENDAR