BEGIN:VCALENDAR
VERSION:2.0
PRODID:-//Replicate Project EU - ECPv5.3.1//NONSGML v1.0//EN
CALSCALE:GREGORIAN
METHOD:PUBLISH
X-WR-CALNAME:Replicate Project EU
X-ORIGINAL-URL:https://replicate-project.eu
X-WR-CALDESC:Events for Replicate Project EU
BEGIN:VTIMEZONE
TZID:UTC
BEGIN:STANDARD
TZOFFSETFROM:+0000
TZOFFSETTO:+0000
TZNAME:UTC
DTSTART:20200101T000000
END:STANDARD
END:VTIMEZONE
BEGIN:VEVENT
DTSTART;TZID=UTC:20200422T080000
DTEND;TZID=UTC:20200424T170000
DTSTAMP:20260422T184345
CREATED:20191211T100623Z
LAST-MODIFIED:20191211T100623Z
UID:5948-1587542400-1587747600@replicate-project.eu
SUMMARY:Cities and Citizens Energy Forum
DESCRIPTION:The first Cities and Citizens Energy Forum. \n\n						Share List
URL:https://replicate-project.eu/event/cities-and-citizens-energy-forum/
LOCATION:Heerlen\, Heerlen\, Netherlands
ATTACH;FMTTYPE=image/png:https://replicate-project.eu/wp-content/uploads/2019/12/PageBanner-encconf.png
END:VEVENT
END:VCALENDAR